BEGIN:VCALENDAR
VERSION:2.0
PRODID:-// - ECPv6.0.13.1//NONSGML v1.0//EN
CALSCALE:GREGORIAN
METHOD:PUBLISH
X-ORIGINAL-URL:https://cosmic.cosmostat.org
X-WR-CALDESC:Events for 
REFRESH-INTERVAL;VALUE=DURATION:PT1H
X-Robots-Tag:noindex
X-PUBLISHED-TTL:PT1H
BEGIN:VTIMEZONE
TZID:UTC
BEGIN:STANDARD
TZOFFSETFROM:+0000
TZOFFSETTO:+0000
TZNAME:UTC
DTSTART:20180101T000000
END:STANDARD
TZID:America/New_York
BEGIN:DAYLIGHT
TZOFFSETFROM:-0500
TZOFFSETTO:-0400
TZNAME:EDT
DTSTART:20180311T070000
END:DAYLIGHT
BEGIN:STANDARD
TZOFFSETFROM:-0400
TZOFFSETTO:-0500
TZNAME:EST
DTSTART:20181104T060000
END:STANDARD
END:VTIMEZONE
BEGIN:VEVENT
DTSTART;VALUE=DATE:20181009
DTEND;VALUE=DATE:20181010
DTSTAMP:20260420T210631
CREATED:20180915T055611Z
LAST-MODIFIED:20180915T055639Z
UID:688-1539043200-1539129599@cosmic.cosmostat.org
SUMMARY:ISBI 2019 deadline
DESCRIPTION:Deadline for paper submission to the 2019 IEEE International Symposium on Biomedical Imaging (ISBI) that will be held in Venice (Italy) on April\, 8-11 is Oct\, 9 2018.
URL:https://cosmic.cosmostat.org/event/isbi-2019-deadline/
CATEGORIES:Conferences,Deadlines
END:VEVENT
BEGIN:VEVENT
DTSTART;TZID=UTC:20180911T143000
DTEND;TZID=UTC:20180911T173000
DTSTAMP:20260420T210631
CREATED:20180915T055249Z
LAST-MODIFIED:20180915T055336Z
UID:686-1536676200-1536687000@cosmic.cosmostat.org
SUMMARY:2nd year COSMIC defense
DESCRIPTION:We will be presenting the scientific and technical achievements of this 2nd year in front of the jury of the Fundamental Research Division of CEA. See the slides here.
URL:https://cosmic.cosmostat.org/event/2nd-year-cosmic-defense/
LOCATION:NeuroSpin\, CEA Saclay\, Gif-sur-Yvette\, France
CATEGORIES:Conferences
END:VEVENT
BEGIN:VEVENT
DTSTART;TZID=UTC:20180616T080000
DTEND;TZID=UTC:20180621T170000
DTSTAMP:20260420T210631
CREATED:20180915T053925Z
LAST-MODIFIED:20180915T054000Z
UID:677-1529136000-1529600400@cosmic.cosmostat.org
SUMMARY:26th ISMRM Annual Meeting 2018
DESCRIPTION:The COSMIC team (C. Lazarus\, L. El Gueddari and P. Ciuciu) will be presenting 3 posters at the 26th annual joint ISMRM-ESMRMB conference. See details here
URL:https://cosmic.cosmostat.org/event/26th-ismrm-annual-meeting-2018/
LOCATION:Paris\, Paris Expo Porte de Versailles\, Paris\, 75014\, France
CATEGORIES:Conferences
END:VEVENT
BEGIN:VEVENT
DTSTART;VALUE=DATE:20180525
DTEND;VALUE=DATE:20180526
DTSTAMP:20260420T210631
CREATED:20180915T054406Z
LAST-MODIFIED:20180915T054858Z
UID:681-1527206400-1527292799@cosmic.cosmostat.org
SUMMARY:Keynote Speaker at NCMIP 2018
DESCRIPTION:Philippe Ciuciu will be Keynote speaker at the New Computational Methods for Inverse Problems. See details here.
URL:https://cosmic.cosmostat.org/event/keynote-at-ncmip-2018/
LOCATION:Cachan\, ENS Cachan\, Avenue du Président Wilson\, Cachan\, France
CATEGORIES:Conferences
END:VEVENT
BEGIN:VEVENT
DTSTART;TZID=America/New_York:20180404T080000
DTEND;TZID=America/New_York:20180408T170000
DTSTAMP:20260420T210631
CREATED:20180915T053054Z
LAST-MODIFIED:20180915T053445Z
UID:670-1522828800-1523206800@cosmic.cosmostat.org
SUMMARY:Attending IEEE ISBI 2018
DESCRIPTION:Loubna El Gueddari will be presenting two posters at the 16th IEEE International Symposium on Biomedical Imaging that will be held in Washington DC (April\, 3-7 2018). The topics of the posters are: \n\nMulti-contrast dictionary learning for 2D compressed sensing MRI reconstruction (1st author: Hanaé Carrié\, former COSMIC intern in 2017). Abstract available here.\nSelf-calibrating nonlinear reconstruction algorithms for variable density sampling and parallel reception MRI (1st author: Loubna). Abstract available here.
URL:https://cosmic.cosmostat.org/event/attending-ieee-isbi-2018/
LOCATION:Washington\, Omni Shoreham Hotel\, \, Washington\, DC\, United States
CATEGORIES:Conferences
END:VEVENT
END:VCALENDAR